Workbook

Sheet Ad Generator
C3: GENERATE A UNIT AD!
C6: PROPERTY AND UNIT
C7: Select the property name from the drop-down list -> | D7: Please Select Property | F7: <-Select from drop-down list | G7: [Please Select Property]
C8: Type in the unit number -> | D8: ... | F8: <- Type in unit number (just the number, no #)
C10: TOURING
C11: LISA contact info will be automatically added here -> (If the tour scheduling contact info needs to be changed, update the "Property Directory" sheet.) | D11: =VLOOKUP(D7,'Property Directory'!A2:D9,3,0) -> … | F11: <- Autofills, Don't touch. (To change the contact info, update in "Property Description" sheet)
D12: =VLOOKUP(D7,'Property Directory'!A2:D9,4,0) -> … | E12: =_xlfn.CONCAT("Schedule a Tour! ", 'Ad Generator'!$D$11, " or ", 'Ad Generator'!$D$12) -> Schedule a Tour! … or …
C13: Enter the YouTube link for the video tour -> Leave blank if there is no video available | D13: ... | E13: =_xlfn.CONCAT("Video Tour: ",IF('Ad Generator'!$D$13="...","Coming Soon!",'Ad Generator'!$D$13)) -> Video Tour: Coming Soon! | G13: [Enter YouTube Link]
C15: DESCRIPTIONS
C16: The property description will automatically be added here -> (If "Missing", please create a description and add it to the "Property Directory" sheet.) | D16: =VLOOKUP(D7,'Property Directory'!A2:B9,2,0) -> … | E16: =_xlfn.CONCAT("Community:", CHAR(10), 'Ad Generator'!$D$16) -> Community: … | F16: <- Autofills (If "Missing", please create a description and add it to "Property Description" sheet and AppFolio)
C17: Type in a unit description -> (Ex. This <adjective> xbd/xba apartment features <amenity>, <amenity>, and <amenity>.) | D17: ... | E17: =_xlfn.CONCAT("Apartment ", 'Ad Generator'!$D$8, ":", CHAR(10), 'Ad Generator'!$D$17) -> Apartment ...: ...
C19: LAUNDRY, PARKING, STORAGE
C20: Select laundry type from the drop-down list -> | D20: ... | E20: =_xlfn.CONCAT("Laundry: ", 'Ad Generator'!$D$20) -> Laundry: ... | F20: <-Select from drop-down list | G20: …
C21: Select parking type from the drop-down list -> | D21: ... | F21: <-Select from drop-down list | G21: …
C22: Enter the monthly cost of parking -> | D22: ... | E22: =IF('Ad Generator'!$D$21="Street Parking Only", _xlfn.CONCAT("Parking: ", 'Ad Generator'!$D$21), _xlfn.CONCAT("Parking: ", 'Ad Generator'!$D$21, " Available for $", 'Ad Generator'!$D$22, "/month")) -> Parking: ... Available for $.../month | F22: <-Type in monthly cost of parking (just the number, no $)
C23: Select the storage type from the drop-down list -> | D23: ... | F23: <-Select from drop-down list | G23: …
C24: Enter the monthly cost of storage -> | D24: ... | E24: =IF(D23="None","DELETE THIS LINE",_xlfn.CONCAT("Storage: ",D23," Available for $",D24,"/month")) -> Storage: ... Available for $.../month | F24: <-Type in monthly cost of storage (just the number, no $)
C26: UTILITIES
C27: Select the utility billing system from the drop-down list -> | D27: ... | E27: =IF('Ad Generator'!$D$27="Flat Rate", 'Ad Generator'!$E$29, _xlfn.CONCAT("Utilities: ", 'Ad Generator'!$D$27)) -> Utilities: ... | F27: <-Select from drop-down list | G27: …
C28: Enter the base fee for flat rate utility billing -> | D28: ... | F28: <-Type in Base fee for flat rate utility billing, ignore if billing is not flat rate
C29: Enter the additional occupant fee for flat rate utility billing -> | D29: ... | E29: =IF(D27="Flat Rate", _xlfn.CONCAT("Utilities: ", D27, " of $", D28, "/month ", "+ $",D29," per additional person"), "") | F29: <-Type in additional person fee for flat rate utility billing, ignore if billing is not flat rate
C31: PET POLICY
C32: Select the pets allowed from the drop-down list -> | D32: ... | F32: <-Select from drop-down list | G32: …
C33: Enter the maximum number of pets -> | D33: ... | E33: =IF(D32="Sorry, No Pets Allowed",D32,_xlfn.CONCAT("- ", 'Ad Generator'!$D$32, CHAR(10), "- Maximum of ", 'Ad Generator'!$D$33," pets")) -> - ... - Maximum of ... pets | F33: <-Type in maximum number of pets
C34: Select the pet deposit type from the drop-down list -> | D34: ... | F34: <-Select from drop-down list | G34: …
C35: Enter the pet deposit amount -> | D35: ... | F35: <-Type in pet deposit (just the number, no $)
C36: Enter the pet rent amount -> (If rent is per pet, enter a range. For example, $25/month per pet with 2 pets max would be entered as "25-50") | D36: ... | E36: =IF(D32="Sorry, no pets allowed","DELETE THIS LINE ",_xlfn.CONCAT("- $",'Ad Generator'!$D$35," ",'Ad Generator'!$D$34," + $",'Ad Generator'!$D$36,"/month pet rent")) -> - $... ... + $.../month pet rent | F36: <-Type in pet rent. If rent is per pet, enter a range (Ex. $25/month per pet with 2 pets max would be entered as "25-50")
C38: LEASE DETAILS
C39: Enter the rent (include dollar sign and comma) -> | D39: ... | E39: =_xlfn.CONCAT("Rent: ", 'Ad Generator'!$D$39) -> Rent: ... | F39: <-Type in rent (Include dollar sign and comma)
C40: Enter the security deposit (include dollar sign and comma) -> | D40: ... | E40: =_xlfn.CONCAT("Deposit: ", 'Ad Generator'!$D$40) -> Deposit: ... | F40: <-Type in deposit (Include dollar sign and comma)
C41: Enter the admin fee if relevant (include dollar sign) -> | D41: ... | E41: =IF('Ad Generator'!$D$41= "...","DELETE THIS LINE", _xlfn.CONCAT("- Admin Fee: ", 'Ad Generator'!$D$41)) -> DELETE THIS LINE | F41: <-Type in admin (Include dollar sign and comma)
C42: Enter the date available (MM/DD/YYYY format) -> | D42: ... | E42: =_xlfn.CONCAT("Available: ", 'Ad Generator'!$D$42) -> Available: ... | F42: <-Type in date (M/DD/YYYY format) | G42: MM/DD/YYYY
C43: Enter the lease length ("X months") -> | D43: ... | E43: =_xlfn.CONCAT("Lease Length: ", 'Ad Generator'!$D$43) -> Lease Length: ... | F43: <-Type in lease length ("X months") | G43: X months
C45: HERE'S YOUR GENERATED AD!
C46: Copy the cell below into Appfolio, delete any unnecessary spaces, proofread, then post!
C47: (Do not attempt to edit the ad in the cell below, copy and edit in Word/Appfolio/Notes/etc.)
C48: =IF(D7="Please Select Property", "", 'Formulas & Validation'!A24)

Sheet Property Directory
A1: Property Name | B1: Marketing Description | C1: LISA Phone | D1: LISA Email
A2: Please Select Property | B2: … | C2: … | D2: …
A3: 48th St Apartments | B3: 48th St Apartments is located just south of Woodland Park in Wallingford. This community offers a walk score of 87, and a bike score of 88, with convenient access to both i5 and Highway 99. At 48th St, all 11 units were renovated by in 2018, and feature hardwood floors, cherry cabinets, and modern stainless steel appliances! | C3: 1(555) 555-5555 | D3: propertyname@rent.dynasty.com
A4: 50th St Apartments | B4: 50th St Apartments is located in Ballard, obtaining a bike score of 96, and a walk score of 92! This community features 6 residences, all equipped with hardwood floors, lofted bedrooms with a spiral staircase, and on-site laundry! At 50th St Apartments, you'll find yourself just a short commute to Fremont, Queen Anne, and bustling Downtown Seattle. | C4: 1(555) 555-5555 | D4: propertyname@rent.dynasty.com
A5: Boston West Apartments | B5: Boston West Apartments is a 16 unit multifamily property that was built 1990. Conveniently located in the highly desirable neighborhood of Magnolia. Magnolia is the second largest neighborhood in Seattle. It is a safe and family friendly area surrounded by parks, views and easy access to hustle and bustle of down town Seattle. Boston West is a 4 story building that offers 1 and 2 bedroom units. This stucco building also offers garaged parking, washer and dryers in units and each unit has a balcony. Boston West also features an on-site resident manager, secured entry, an elevator and a quaint lobby. | C5: 1(555) 555-5555 | D5: propertyname@rent.dynasty.com
A6: Camden Apartments | B6: Camden Apartments are centrally located in Wallingford, offering a walk score of 91, at Camden you're just steps from i5 and the University District. This community features 13 residences, all fully renovated, and equipped with quartz countertops, hardwood floors, in-unit washer/dryers, and tile bathrooms. | C6: 1(555) 555-5555 | D6: propertyname@rent.dynasty.com
A7: Go Long Apartments | B7: Go Long Apartments is located in Ballard, offering a walk score of 92, and a bike score of 87! This community features 6 residences, with a blend of vintage and modern finishes. At Go Long, you'll find yourself just steps from Market St, with quick access to Queen Anne, Fremont and Downtown Seattle | C7: 1(555) 555-5555 | D7: propertyname@rent.dynasty.com
A8: Howard Park | B8: Howard Park Apartments is located in Wallingford, steps from North Lake Union and the 45th St retail district! The community offers a walk score of 90 and features a marble lobby and entryway, 40 recently renovated residences, gated parking, and a rooftop with BBQ. | C8: 1(555) 555-5555 | D8: propertyname@rent.dynasty.com
A9: Luke Apartments | B9: Luke Apartments is located on the east slope of the Magnolia, with views of Mt. Rainier and Downtown Seattle. The community was fully renovated in 2018 and each of the 16 units offers cherry cabinets, grey hardwood like floors, and high performing stainless steel appliances. Select units offer balconies with a city view! Enjoy living in beautiful Magnolia with accessibility to Downtown, Queen Anne, and Ballard! | C9: 1(555) 555-5555 | D9: propertyname@rent.dynasty.com

Sheet Formulas & Validation
A1: Touring and Descriptions | S1: Laundry | T1: Parking | U1: Storage | V1: Utilities | W1: Pets Allowed | X1: Pet Deposit Type
A2: =_xlfn.CONCAT("Schedule a Tour! ", 'Ad Generator'!$D$11, " or ", 'Ad Generator'!$D$12) -> Schedule a Tour! … or … | S2: In-Unit Washer/Dryer | T2: Secured Garage Parking | U2: Garage Storage | V2: Flat Rate | W2: Cats and Dogs Welcome! | X2: Refundable Pet Deposit
A3: =_xlfn.CONCAT("Video Tour: ",IF('Ad Generator'!$D$13="","Coming Soon!",'Ad Generator'!$D$13)) -> Video Tour: ... | S3: Common Area Laundry | T3: Off-Street Parking | U3: Storage Locker | V3: Ratio Utility Billing System (RUBS) | W3: Cats and Small Dogs Welcome! | X3: Refundable Deposit per Pet
A4: =_xlfn.CONCAT("Community:", CHAR(10), 'Ad Generator'!$D$16) -> Community: … | S4: No Laundry On-Site | T4: Reserved Off-Street Parkimg | U4: Storage Unit | V4: Individually Metered and Billed by Unit | W4: Cats Only | X4: Non-refundable Pet Deposit
A5: =_xlfn.CONCAT("Apartment #", 'Ad Generator'!$D$8, ":", CHAR(10), 'Ad Generator'!$D$17) -> Apartment #...: ... | S5: … | T5: Street Parking Only | U5: None | V5: Included | W5: Dogs Only | X5: Non-refundable Deposit per Pet
T6: Covered Parking | V6: … | W6: Small Dogs Only | X6: No Pet Deposit!
T7: … | U7: … | W7: Sorry, no pets allowed | X7: …
W8: …
A9: Application/Screening Info
A10: Looking to apply?
A11: Our online leasing process makes moving simple! Applications can be found online at https://www.guidepm.com/seattle-homes-for-rent.
A12: Cost: $50 application fee, $500 holding deposit (will be applied to security deposit)
A13: Screening Criteria: Verified income of 3x monthly rent, a credit score of 650 or higher, no open bankruptcies, no past landlord-tenant disputes with judgment in favor of the landlord.
A14: (Applicants who do not meet these criteria may be accepted on a case-by-case basis and/or with a qualifying Cosigner/Guarantor.)
A15: We do not accept Comprehensive Reusable Tenant Screening Reports as defined by and pursuant to RCW 59.18.
A16: *Disclaimer: Advertised photos may be of a similar unit in the building. Apartment features may vary. All applicants are encouraged to tour the property before lease signing to confirm unit details.
A17: Concated Sections
A18: =(_xlfn.CONCAT('Ad Generator'!$E$12,CHAR(10),'Ad Generator'!$E$13,CHAR(10),CHAR(10),'Ad Generator'!$E$16,CHAR(10),CHAR(10),'Ad Generator'!$E$17)) -> Schedule a Tour! … or … Video Tour: Coming Soon! Community: … Apartment ...: ...
A19: =(_xlfn.CONCAT('Ad Generator'!$E$20,CHAR(10),CHAR(10),'Ad Generator'!$E$22,CHAR(10),CHAR(10),'Ad Generator'!$E$24,CHAR(10),CHAR(10),'Ad Generator'!$E$27,CHAR(10),CHAR(10),"Pet Policy:",CHAR(10),'Ad Generator'!$E$33,CHAR(10),'Ad Generator'!$E$36)) -> Laundry: ... Parking: ... Available for $.../month Storage: ... Available for $.../month Utilities: ... Pet Policy: - ... - Maximum of ... pets - $... ... + $.../month pet rent
A20: =(_xlfn.CONCAT("Lease Details: ",CHAR(10),"- ",'Ad Generator'!$E$39,CHAR(10),"- ",'Ad Generator'!$E$40,CHAR(10),'Ad Generator'!$E$41,CHAR(10),"- ",'Ad Generator'!$E$42,CHAR(10),"- ",'Ad Generator'!$E$43)) -> Lease Details: - Rent: ... - Deposit: ... DELETE THIS LINE - Available: ... - Lease Length: ...
A21: =_xlfn.CONCAT(A10, CHAR(10),A11, CHAR(10),CHAR(10), A12,CHAR(10),CHAR(10),A13,CHAR(10),A14,CHAR(10),CHAR(10),A15,CHAR(10),CHAR(10),A16) -> Looking to apply? Our online leasing process makes moving simple! Applications can be found online at https://www.guidepm.com/seattle-homes-for-rent. Cost: $50 application fee, $500 holding deposit (will be applied to security deposit) Screening Criteria: Verified income of 3x monthly rent, a credit score of 650 or higher, no open bankruptcies, no past landlord-tenant disputes with judgment in favor of the landlord. (Applicants who do not meet these criteria may be accepted on a case-by-case basis and/or with a qualifying Cosigner/Guarantor.) We do not accept Comprehensive Reusable Tenant Screening Reports as defined by and pursuant to RCW 59.18. *Disclaimer: Advertised photos may be of a similar unit in the building. Apartment features may vary. All applicants are encouraged to tour the property before lease signing to confirm unit details.
A23: Generated Ad
A24: =_xlfn.CONCAT(A18, CHAR(10), CHAR(10), A19, CHAR(10), CHAR(10),A20,CHAR(10),CHAR(10),A21) -> Schedule a Tour! … or … Video Tour: Coming Soon! Community: … Apartment ...: ... Laundry: ... Parking: ... Available for $.../month Storage: ... Available for $.../month Utilities: ... Pet Policy: - ... - Maximum of ... pets - $... ... + $.../month pet rent Lease Details: - Rent: ... - Deposit: ... DELETE THIS LINE - Available: ... - Lease Length: ... Looking to apply? Our online leasing process makes moving simple! Applications can be found online at https://www.guidepm.com/seattle-homes-for-rent. Cost: $50 application fee, $500 holding deposit (will be applied to security deposit) Screening Criteria: Verified income of 3x monthly rent, a credit score of 650 or higher, no open bankruptcies, no past landlord-tenant disputes with judgment in favor of the landlord. (Applicants who do not meet these criteria may be accepted on a case-by-case basis and/or with a qualifying Cosigner/Guarantor.) We do not accept Comprehensive Reusable Tenant Screening Reports as defined by and pursuant to RCW 59.18. *Disclaimer: Advertised photos may be of a similar unit in the building. Apartment features may vary. All applicants are encouraged to tour the property before lease signing to confirm unit details.
